BEGIN:VCALENDAR
VERSION:2.0
PRODID:-//Plone.org//NONSGML plone.app.event//EN
X-WR-TIMEZONE:Europe/Madrid
BEGIN:VEVENT
SUMMARY:Nit de monòlegs morats
DTSTART;VALUE=DATE-TIME:20210821T213000Z
DTEND;VALUE=DATE-TIME:20210821T223000Z
DTSTAMP;VALUE=DATE-TIME:20260419T181837Z
UID:033c751f6e6e405cad741347c9d38181@www.molletvalles.cat
CREATED;VALUE=DATE-TIME:20231017T110724Z
LAST-MODIFIED;VALUE=DATE-TIME:20231018T141259Z
URL:https://www.molletvalles.cat/ca/serveis/joventut-1/agenda/5937
END:VEVENT
END:VCALENDAR
