BEGIN:VCALENDAR
VERSION:2.0
PRODID:-//Plone.org//NONSGML plone.app.event//EN
X-WR-TIMEZONE:Europe/Madrid
BEGIN:VEVENT
SUMMARY:Activitat esportiva 
DTSTART;VALUE=DATE-TIME:20151222T155028Z
DTEND;VALUE=DATE-TIME:20151222T155028Z
DTSTAMP;VALUE=DATE-TIME:20260423T121220Z
UID:b772750cb2184c0abac355fd7bb8716c@www.molletvalles.cat
CREATED;VALUE=DATE-TIME:20231017T104951Z
LAST-MODIFIED;VALUE=DATE-TIME:20231018T141234Z
URL:https://www.molletvalles.cat/ca/serveis/joventut-1/agenda/activitat-es
 portiva-2
END:VEVENT
END:VCALENDAR
