BEGIN:VCALENDAR
VERSION:2.0
PRODID:-//Plone.org//NONSGML plone.app.event//EN
X-WR-TIMEZONE:Europe/Madrid
BEGIN:VEVENT
SUMMARY:Animació esportiva 
DTSTART;VALUE=DATE-TIME:20150625T180351Z
DTEND;VALUE=DATE-TIME:20150625T180351Z
DTSTAMP;VALUE=DATE-TIME:20260421T135647Z
UID:99899fd4544b483eaf542e51d5ceaf88@www.molletvalles.cat
CREATED;VALUE=DATE-TIME:20231017T104123Z
LAST-MODIFIED;VALUE=DATE-TIME:20231018T141319Z
URL:https://www.molletvalles.cat/ca/serveis/joventut-1/agenda/animacio-esp
 ortiva-11
END:VEVENT
END:VCALENDAR
