BEGIN:VCALENDAR
VERSION:2.0
PRODID:-//Plone.org//NONSGML plone.app.event//EN
X-WR-TIMEZONE:Europe/Madrid
BEGIN:VEVENT
SUMMARY:Ball de la Gent Gran
DTSTART;VALUE=DATE-TIME:20150816T085543Z
DTEND;VALUE=DATE-TIME:20150816T085543Z
DTSTAMP;VALUE=DATE-TIME:20260423T105124Z
UID:d221aea8b07d47ea8c68533b6da18c53@www.molletvalles.cat
CREATED;VALUE=DATE-TIME:20231017T104719Z
LAST-MODIFIED;VALUE=DATE-TIME:20231018T141225Z
URL:https://www.molletvalles.cat/ca/serveis/joventut-1/agenda/ball-de-la-g
 ent-gran
END:VEVENT
END:VCALENDAR
