BEGIN:VCALENDAR
VERSION:2.0
PRODID:-//Plone.org//NONSGML plone.app.event//EN
X-WR-TIMEZONE:Europe/Madrid
BEGIN:VEVENT
SUMMARY:Cercavila amb la Colla Gegantera\, Castellers de Mollet i Club Mun
 tanyenc per rebre la Flama del Canigó
DTSTART;VALUE=DATE-TIME:20220623T191500Z
DTEND;VALUE=DATE-TIME:20220623T213000Z
DTSTAMP;VALUE=DATE-TIME:20260419T162303Z
UID:3c949f768f2346a9b202893906f35751@www.molletvalles.cat
CREATED;VALUE=DATE-TIME:20231017T110828Z
LAST-MODIFIED;VALUE=DATE-TIME:20231018T141303Z
URL:https://www.molletvalles.cat/ca/serveis/joventut-1/agenda/cercavila-am
 b-la-colla-gegantera-castellers-de-mollet-i-club-muntanyenc-per-rebre-la-f
 lama-del-canigo
END:VEVENT
END:VCALENDAR
