BEGIN:VCALENDAR
VERSION:2.0
PRODID:-//Plone.org//NONSGML plone.app.event//EN
X-WR-TIMEZONE:Europe/Madrid
BEGIN:VEVENT
SUMMARY:Dibuix per a joves
DTSTART;VALUE=DATE-TIME:20151222T123635Z
DTEND;VALUE=DATE-TIME:20151222T123635Z
DTSTAMP;VALUE=DATE-TIME:20260421T135637Z
UID:7a181b8823e1413ba4dc0ddc111adf25@www.molletvalles.cat
CREATED;VALUE=DATE-TIME:20231017T104948Z
LAST-MODIFIED;VALUE=DATE-TIME:20231018T141234Z
URL:https://www.molletvalles.cat/ca/serveis/joventut-1/agenda/dibuix-per-a
 -joves
END:VEVENT
END:VCALENDAR
