BEGIN:VCALENDAR
VERSION:2.0
PRODID:-//Plone.org//NONSGML plone.app.event//EN
X-WR-TIMEZONE:Europe/Madrid
BEGIN:VEVENT
SUMMARY:Disseny de fundes de mòbil 
DTSTART;VALUE=DATE-TIME:20140603T175225Z
DTEND;VALUE=DATE-TIME:20140603T175225Z
DTSTAMP;VALUE=DATE-TIME:20260421T135510Z
UID:4111eac734544ed3a0efff6883b3ae29@www.molletvalles.cat
CREATED;VALUE=DATE-TIME:20231017T103631Z
LAST-MODIFIED;VALUE=DATE-TIME:20231018T141308Z
URL:https://www.molletvalles.cat/ca/serveis/joventut-1/agenda/disseny-de-f
 undes-de-mobil
END:VEVENT
END:VCALENDAR
