BEGIN:VCALENDAR
VERSION:2.0
PRODID:-//Plone.org//NONSGML plone.app.event//EN
X-WR-TIMEZONE:Europe/Madrid
BEGIN:VEVENT
SUMMARY:Educació emocional per a joves
DTSTART;VALUE=DATE-TIME:20160901T121042Z
DTEND;VALUE=DATE-TIME:20160901T121042Z
DTSTAMP;VALUE=DATE-TIME:20260421T135403Z
UID:37907339bbfa4b8ea5bb8dc79776edd1@www.molletvalles.cat
CREATED;VALUE=DATE-TIME:20231017T105342Z
LAST-MODIFIED;VALUE=DATE-TIME:20231018T141246Z
URL:https://www.molletvalles.cat/ca/serveis/joventut-1/agenda/educacio-emo
 cional-per-a-joves
END:VEVENT
END:VCALENDAR
