BEGIN:VCALENDAR
VERSION:2.0
PRODID:-//Plone.org//NONSGML plone.app.event//EN
X-WR-TIMEZONE:Europe/Madrid
BEGIN:VEVENT
SUMMARY:Exposició Fotogràfica. De batxillerat artístic
DTSTART;VALUE=DATE-TIME:20150429T105900Z
DTEND;VALUE=DATE-TIME:20150429T105900Z
DTSTAMP;VALUE=DATE-TIME:20260421T140520Z
UID:eef04d28066b4d5c9800400d88459cb6@www.molletvalles.cat
CREATED;VALUE=DATE-TIME:20231017T104031Z
LAST-MODIFIED;VALUE=DATE-TIME:20231018T141316Z
URL:https://www.molletvalles.cat/ca/serveis/joventut-1/agenda/exposicio-fo
 tografica-de-batxillerat-artistic
END:VEVENT
END:VCALENDAR
