BEGIN:VCALENDAR
VERSION:2.0
PRODID:-//Plone.org//NONSGML plone.app.event//EN
X-WR-TIMEZONE:Europe/Madrid
BEGIN:VEVENT
SUMMARY:Festa Jove de Carnaval i Concurs de disfresses
DTSTART;VALUE=DATE-TIME:20220226T213000Z
DTEND;VALUE=DATE-TIME:20220226T223000Z
DTSTAMP;VALUE=DATE-TIME:20260421T155725Z
UID:61347f4c5e5941bda8d3a44ed6c1e69b@www.molletvalles.cat
CREATED;VALUE=DATE-TIME:20231017T110805Z
LAST-MODIFIED;VALUE=DATE-TIME:20231018T141302Z
URL:https://www.molletvalles.cat/ca/serveis/joventut-1/agenda/festa-jove-d
 e-carnaval-i-concurs-de-disfresses-2
END:VEVENT
END:VCALENDAR
