BEGIN:VCALENDAR
VERSION:2.0
PRODID:-//Plone.org//NONSGML plone.app.event//EN
X-WR-TIMEZONE:Europe/Madrid
BEGIN:VEVENT
SUMMARY:Festa Verda i de la Biodiversitat.
DTSTART;VALUE=DATE-TIME:20210517T180000Z
DTEND;VALUE=DATE-TIME:20210517T193000Z
DTSTAMP;VALUE=DATE-TIME:20260421T135805Z
UID:947961da8c674dbd806066b32675b98e@www.molletvalles.cat
CREATED;VALUE=DATE-TIME:20231017T110657Z
LAST-MODIFIED;VALUE=DATE-TIME:20231018T141258Z
URL:https://www.molletvalles.cat/ca/serveis/joventut-1/agenda/festa-verda-
 i-de-la-biodiversitat
END:VEVENT
END:VCALENDAR
