BEGIN:VCALENDAR
VERSION:2.0
PRODID:-//Plone.org//NONSGML plone.app.event//EN
X-WR-TIMEZONE:Europe/Madrid
BEGIN:VEVENT
SUMMARY:Hora del Te
DTSTART;VALUE=DATE-TIME:20151222T153424Z
DTEND;VALUE=DATE-TIME:20151222T153424Z
DTSTAMP;VALUE=DATE-TIME:20260421T155534Z
UID:1cf15155e7f1426bbf302699d1b79821@www.molletvalles.cat
CREATED;VALUE=DATE-TIME:20231017T104950Z
LAST-MODIFIED;VALUE=DATE-TIME:20231018T141234Z
URL:https://www.molletvalles.cat/ca/serveis/joventut-1/agenda/hora-del-te-
 2
END:VEVENT
END:VCALENDAR
