BEGIN:VCALENDAR
VERSION:2.0
PRODID:-//Plone.org//NONSGML plone.app.event//EN
X-WR-TIMEZONE:Europe/Madrid
BEGIN:VEVENT
SUMMARY:I els divendres\, Què?
DTSTART;VALUE=DATE-TIME:20151112T185023Z
DTEND;VALUE=DATE-TIME:20151112T185023Z
DTSTAMP;VALUE=DATE-TIME:20260423T120941Z
UID:8215bc8b7187490bb1942ed0f3ff23fe@www.molletvalles.cat
CREATED;VALUE=DATE-TIME:20231017T104848Z
LAST-MODIFIED;VALUE=DATE-TIME:20231018T141231Z
URL:https://www.molletvalles.cat/ca/serveis/joventut-1/agenda/i-els-divend
 res-que-4
END:VEVENT
END:VCALENDAR
