BEGIN:VCALENDAR
VERSION:2.0
PRODID:-//Plone.org//NONSGML plone.app.event//EN
X-WR-TIMEZONE:Europe/Madrid
BEGIN:VEVENT
SUMMARY:Ioga i estiraments 
DTSTART;VALUE=DATE-TIME:20160208T110228Z
DTEND;VALUE=DATE-TIME:20160208T110228Z
DTSTAMP;VALUE=DATE-TIME:20260421T135540Z
UID:5e7b6bb2eb1948fe96766b62b058bf6f@www.molletvalles.cat
CREATED;VALUE=DATE-TIME:20231017T105035Z
LAST-MODIFIED;VALUE=DATE-TIME:20231018T141236Z
URL:https://www.molletvalles.cat/ca/serveis/joventut-1/agenda/ioga-i-estir
 aments-2
END:VEVENT
END:VCALENDAR
