BEGIN:VCALENDAR
VERSION:2.0
PRODID:-//Plone.org//NONSGML plone.app.event//EN
X-WR-TIMEZONE:Europe/Madrid
BEGIN:VEVENT
SUMMARY:Jocs de taula per a joves 
DTSTART;VALUE=DATE-TIME:20150629T162803Z
DTEND;VALUE=DATE-TIME:20150629T162803Z
DTSTAMP;VALUE=DATE-TIME:20260421T135750Z
UID:18c87f95b5774e3d83837fb09554c6d5@www.molletvalles.cat
CREATED;VALUE=DATE-TIME:20231017T104132Z
LAST-MODIFIED;VALUE=DATE-TIME:20231018T141319Z
URL:https://www.molletvalles.cat/ca/serveis/joventut-1/agenda/jocs-de-taul
 a-per-a-joves-2
END:VEVENT
END:VCALENDAR
