BEGIN:VCALENDAR
VERSION:2.0
PRODID:-//Plone.org//NONSGML plone.app.event//EN
X-WR-TIMEZONE:Europe/Madrid
BEGIN:VEVENT
SUMMARY:Jornada de portes obertes 
DTSTART;VALUE=DATE-TIME:20170105T130413Z
DTEND;VALUE=DATE-TIME:20170105T130413Z
DTSTAMP;VALUE=DATE-TIME:20260421T135719Z
UID:c8e2f5d10b0f4467b22093ddb80d1fb1@www.molletvalles.cat
CREATED;VALUE=DATE-TIME:20231017T105543Z
LAST-MODIFIED;VALUE=DATE-TIME:20231018T141324Z
URL:https://www.molletvalles.cat/ca/serveis/joventut-1/agenda/jornada-de-p
 ortes-obertes
END:VEVENT
END:VCALENDAR
