BEGIN:VCALENDAR
VERSION:2.0
PRODID:-//Plone.org//NONSGML plone.app.event//EN
X-WR-TIMEZONE:Europe/Madrid
BEGIN:VEVENT
SUMMARY:Judici de Carnestoltes
DTSTART;VALUE=DATE-TIME:20160201T150430Z
DTEND;VALUE=DATE-TIME:20160201T150430Z
DTSTAMP;VALUE=DATE-TIME:20260421T135544Z
UID:3e62fca3b2b44b3eb3234bf1dc581c99@www.molletvalles.cat
CREATED;VALUE=DATE-TIME:20231017T105025Z
LAST-MODIFIED;VALUE=DATE-TIME:20231018T141236Z
URL:https://www.molletvalles.cat/ca/serveis/joventut-1/agenda/judici-de-ca
 rnestoltes-2
END:VEVENT
END:VCALENDAR
