BEGIN:VCALENDAR
VERSION:2.0
PRODID:-//Plone.org//NONSGML plone.app.event//EN
X-WR-TIMEZONE:Europe/Madrid
BEGIN:VEVENT
SUMMARY:La Nit Destil·lada 
DTSTART;VALUE=DATE-TIME:20160817T192040Z
DTEND;VALUE=DATE-TIME:20160817T192040Z
DTSTAMP;VALUE=DATE-TIME:20260421T135440Z
UID:1da0c50867944292bd0e5aee5bc39f98@www.molletvalles.cat
CREATED;VALUE=DATE-TIME:20231017T105316Z
LAST-MODIFIED;VALUE=DATE-TIME:20231018T141245Z
URL:https://www.molletvalles.cat/ca/serveis/joventut-1/agenda/la-nit-desti
 l%25c2%25b7lada-2
END:VEVENT
END:VCALENDAR
