BEGIN:VCALENDAR
VERSION:2.0
PRODID:-//Plone.org//NONSGML plone.app.event//EN
X-WR-TIMEZONE:Europe/Madrid
BEGIN:VEVENT
SUMMARY:Lectura del Manifest
DTSTART;VALUE=DATE-TIME:20200227T201433Z
DTEND;VALUE=DATE-TIME:20200227T201433Z
DTSTAMP;VALUE=DATE-TIME:20260421T140027Z
UID:15594bf5b9904666981a4da629d57a23@www.molletvalles.cat
CREATED;VALUE=DATE-TIME:20231017T110550Z
LAST-MODIFIED;VALUE=DATE-TIME:20231018T141254Z
URL:https://www.molletvalles.cat/ca/serveis/joventut-1/agenda/lectura-del-
 manifest-cercavila
END:VEVENT
END:VCALENDAR
