BEGIN:VCALENDAR
VERSION:2.0
PRODID:-//Plone.org//NONSGML plone.app.event//EN
X-WR-TIMEZONE:Europe/Madrid
BEGIN:VEVENT
SUMMARY:L'habitació del Farmacèutic
DTSTART;VALUE=DATE-TIME:20160420T091906Z
DTEND;VALUE=DATE-TIME:20160420T091906Z
DTSTAMP;VALUE=DATE-TIME:20260421T135707Z
UID:932b6fe6d4ab4d6fbac95d30a8363feb@www.molletvalles.cat
CREATED;VALUE=DATE-TIME:20231017T105113Z
LAST-MODIFIED;VALUE=DATE-TIME:20231018T141238Z
URL:https://www.molletvalles.cat/ca/serveis/joventut-1/agenda/lhabitacio-d
 el-farmaceutic
END:VEVENT
END:VCALENDAR
