BEGIN:VCALENDAR
VERSION:2.0
PRODID:-//Plone.org//NONSGML plone.app.event//EN
X-WR-TIMEZONE:Europe/Madrid
BEGIN:VEVENT
SUMMARY:Los 80 Principales
DTSTART;VALUE=DATE-TIME:20180724T115104Z
DTEND;VALUE=DATE-TIME:20180724T115104Z
DTSTAMP;VALUE=DATE-TIME:20260421T135504Z
UID:325ac570237b458aad8d5c3866d8cba4@www.molletvalles.cat
CREATED;VALUE=DATE-TIME:20231017T110122Z
LAST-MODIFIED;VALUE=DATE-TIME:20231018T141342Z
URL:https://www.molletvalles.cat/ca/serveis/joventut-1/agenda/los-80-princ
 ipales
END:VEVENT
END:VCALENDAR
