BEGIN:VCALENDAR
VERSION:2.0
PRODID:-//Plone.org//NONSGML plone.app.event//EN
X-WR-TIMEZONE:Europe/Madrid
BEGIN:VEVENT
SUMMARY:Masia Jove 
DTSTART;VALUE=DATE-TIME:20180702T143822Z
DTEND;VALUE=DATE-TIME:20180702T143822Z
DTSTAMP;VALUE=DATE-TIME:20260421T135424Z
UID:f7b77874dcae4959b043c34b3928ffc0@www.molletvalles.cat
CREATED;VALUE=DATE-TIME:20231017T110027Z
LAST-MODIFIED;VALUE=DATE-TIME:20231018T141340Z
URL:https://www.molletvalles.cat/ca/serveis/joventut-1/agenda/masia-jove-4
END:VEVENT
END:VCALENDAR
