BEGIN:VCALENDAR
VERSION:2.0
PRODID:-//Plone.org//NONSGML plone.app.event//EN
X-WR-TIMEZONE:Europe/Madrid
BEGIN:VEVENT
SUMMARY:Micro obert 
DTSTART;VALUE=DATE-TIME:20140509T164510Z
DTEND;VALUE=DATE-TIME:20140509T164510Z
DTSTAMP;VALUE=DATE-TIME:20260419T181851Z
UID:fd2a7eaa778f47a38e4e2fbc8a7745cf@www.molletvalles.cat
CREATED;VALUE=DATE-TIME:20231017T103538Z
LAST-MODIFIED;VALUE=DATE-TIME:20231018T141308Z
URL:https://www.molletvalles.cat/ca/serveis/joventut-1/agenda/micro-obert
END:VEVENT
END:VCALENDAR
