BEGIN:VCALENDAR
VERSION:2.0
PRODID:-//Plone.org//NONSGML plone.app.event//EN
X-WR-TIMEZONE:Europe/Madrid
BEGIN:VEVENT
SUMMARY:Momo – Tribut a Queen
DTSTART;VALUE=DATE-TIME:20190726T134318Z
DTEND;VALUE=DATE-TIME:20190726T134318Z
DTSTAMP;VALUE=DATE-TIME:20260423T120816Z
UID:80de4c3c98004710a209029ad0365118@www.molletvalles.cat
CREATED;VALUE=DATE-TIME:20231017T110501Z
LAST-MODIFIED;VALUE=DATE-TIME:20231018T141351Z
URL:https://www.molletvalles.cat/ca/serveis/joventut-1/agenda/momo-tribut-
 a-queen
END:VEVENT
END:VCALENDAR
