BEGIN:VCALENDAR
VERSION:2.0
PRODID:-//Plone.org//NONSGML plone.app.event//EN
X-WR-TIMEZONE:Europe/Madrid
BEGIN:VEVENT
SUMMARY:Mural pel Dia Internacional de Dona Treballadora 
DTSTART;VALUE=DATE-TIME:20150308T192208Z
DTEND;VALUE=DATE-TIME:20150308T192208Z
DTSTAMP;VALUE=DATE-TIME:20260421T140140Z
UID:31061aabad7c4276accb1c625f9608a2@www.molletvalles.cat
CREATED;VALUE=DATE-TIME:20231017T103810Z
LAST-MODIFIED;VALUE=DATE-TIME:20231018T141313Z
URL:https://www.molletvalles.cat/ca/serveis/joventut-1/agenda/mural-pel-di
 a-internacional-de-dona-treballadora
END:VEVENT
END:VCALENDAR
