BEGIN:VCALENDAR
VERSION:2.0
PRODID:-//Plone.org//NONSGML plone.app.event//EN
X-WR-TIMEZONE:Europe/Madrid
BEGIN:VEVENT
SUMMARY:Pista de Gel
DTSTART;VALUE=DATE-TIME:20221222T110000Z
DTEND;VALUE=DATE-TIME:20221222T210000Z
DTSTAMP;VALUE=DATE-TIME:20260421T135441Z
UID:b4d79888ec224f109fff08df0feb798d@www.molletvalles.cat
CREATED;VALUE=DATE-TIME:20231017T110933Z
LAST-MODIFIED;VALUE=DATE-TIME:20231018T141306Z
URL:https://www.molletvalles.cat/ca/serveis/joventut-1/agenda/pista-de-gel
END:VEVENT
END:VCALENDAR
