BEGIN:VCALENDAR
VERSION:2.0
PRODID:-//Plone.org//NONSGML plone.app.event//EN
X-WR-TIMEZONE:Europe/Madrid
BEGIN:VEVENT
SUMMARY:Sant Jordi. En línia
DTSTART;VALUE=DATE-TIME:20210423T170000Z
DTEND;VALUE=DATE-TIME:20210423T180000Z
DTSTAMP;VALUE=DATE-TIME:20260421T135703Z
UID:1cbee73161094004a2428e2b7f14ee8a@www.molletvalles.cat
CREATED;VALUE=DATE-TIME:20231017T110651Z
LAST-MODIFIED;VALUE=DATE-TIME:20231018T141257Z
URL:https://www.molletvalles.cat/ca/serveis/joventut-1/agenda/sant-jordi-e
 n-linia
END:VEVENT
END:VCALENDAR
