BEGIN:VCALENDAR
VERSION:2.0
PRODID:-//Plone.org//NONSGML plone.app.event//EN
X-WR-TIMEZONE:Europe/Madrid
BEGIN:VEVENT
SUMMARY:Sessió d’aiguagim popular
DTSTART;VALUE=DATE-TIME:20170721T185606Z
DTEND;VALUE=DATE-TIME:20170721T185606Z
DTSTAMP;VALUE=DATE-TIME:20260421T135556Z
UID:1864672c478243d988777f0543e07763@www.molletvalles.cat
CREATED;VALUE=DATE-TIME:20231017T105750Z
LAST-MODIFIED;VALUE=DATE-TIME:20231018T141331Z
URL:https://www.molletvalles.cat/ca/serveis/joventut-1/agenda/sessio-daigu
 agim-popular-2
END:VEVENT
END:VCALENDAR
