BEGIN:VCALENDAR
VERSION:2.0
PRODID:-//Plone.org//NONSGML plone.app.event//EN
X-WR-TIMEZONE:Europe/Madrid
BEGIN:VEVENT
SUMMARY:Sessió d'spinnig 
DTSTART;VALUE=DATE-TIME:20170721T185725Z
DTEND;VALUE=DATE-TIME:20170721T185725Z
DTSTAMP;VALUE=DATE-TIME:20260423T153251Z
UID:652fdc35bc5e449e92724667db962ecf@www.molletvalles.cat
CREATED;VALUE=DATE-TIME:20231017T105751Z
LAST-MODIFIED;VALUE=DATE-TIME:20231018T141331Z
URL:https://www.molletvalles.cat/ca/serveis/joventut-1/agenda/sessio-dspin
 nig
END:VEVENT
END:VCALENDAR
