BEGIN:VCALENDAR
VERSION:2.0
PRODID:-//Plone.org//NONSGML plone.app.event//EN
X-WR-TIMEZONE:Europe/Madrid
BEGIN:VEVENT
SUMMARY:Taller de fotografia #MITMO2022
DTSTART;VALUE=DATE-TIME:20220408T180000Z
DTEND;VALUE=DATE-TIME:20220408T193000Z
DTSTAMP;VALUE=DATE-TIME:20260423T103635Z
UID:8c5be30d5b4a4a3e8815da26a67b8380@www.molletvalles.cat
CREATED;VALUE=DATE-TIME:20231017T110813Z
LAST-MODIFIED;VALUE=DATE-TIME:20231018T141302Z
URL:https://www.molletvalles.cat/ca/serveis/joventut-1/agenda/taller-de-fo
 tografia-mitmo2022
END:VEVENT
END:VCALENDAR
