BEGIN:VCALENDAR
VERSION:2.0
PRODID:-//Plone.org//NONSGML plone.app.event//EN
X-WR-TIMEZONE:Europe/Madrid
BEGIN:VEVENT
SUMMARY:Taller de movie-maker 
DTSTART;VALUE=DATE-TIME:20150610T170745Z
DTEND;VALUE=DATE-TIME:20150610T170745Z
DTSTAMP;VALUE=DATE-TIME:20260421T135436Z
UID:c6664979be86414dbd99c1e3d04a201c@www.molletvalles.cat
CREATED;VALUE=DATE-TIME:20231017T104116Z
LAST-MODIFIED;VALUE=DATE-TIME:20231018T141319Z
URL:https://www.molletvalles.cat/ca/serveis/joventut-1/agenda/taller-de-mo
 vie-maker-2
END:VEVENT
END:VCALENDAR
