BEGIN:VCALENDAR
VERSION:2.0
PRODID:-//Plone.org//NONSGML plone.app.event//EN
X-WR-TIMEZONE:Europe/Madrid
BEGIN:VEVENT
SUMMARY:Tallers creatius 
DTSTART;VALUE=DATE-TIME:20160419T120119Z
DTEND;VALUE=DATE-TIME:20160419T120119Z
DTSTAMP;VALUE=DATE-TIME:20260423T120442Z
UID:4a3c9503ff784485892112d6c5d9b8c1@www.molletvalles.cat
CREATED;VALUE=DATE-TIME:20231017T105111Z
LAST-MODIFIED;VALUE=DATE-TIME:20231018T141238Z
URL:https://www.molletvalles.cat/ca/serveis/joventut-1/agenda/tallers-crea
 tius-30
END:VEVENT
END:VCALENDAR
