BEGIN:VCALENDAR
VERSION:2.0
PRODID:-//Plone.org//NONSGML plone.app.event//EN
X-WR-TIMEZONE:Europe/Madrid
BEGIN:VEVENT
SUMMARY:The picture show
DTSTART;VALUE=DATE-TIME:20170310T193601Z
DTEND;VALUE=DATE-TIME:20170310T193601Z
DTSTAMP;VALUE=DATE-TIME:20260421T135636Z
UID:660c8ad09ecd46abbe282bf63a1715f3@www.molletvalles.cat
CREATED;VALUE=DATE-TIME:20231017T105629Z
LAST-MODIFIED;VALUE=DATE-TIME:20231018T141327Z
URL:https://www.molletvalles.cat/ca/serveis/joventut-1/agenda/the-picture-
 show-3
END:VEVENT
END:VCALENDAR
