BEGIN:VCALENDAR
VERSION:2.0
PRODID:-//Plone.org//NONSGML plone.app.event//EN
X-WR-TIMEZONE:Europe/Madrid
BEGIN:VEVENT
SUMMARY:The picture show cineforum 3era edició
DTSTART;VALUE=DATE-TIME:20141222T155801Z
DTEND;VALUE=DATE-TIME:20141222T155801Z
DTSTAMP;VALUE=DATE-TIME:20260421T140244Z
UID:3d9f594afa9649c2a49876dd8d754236@www.molletvalles.cat
CREATED;VALUE=DATE-TIME:20231017T103722Z
LAST-MODIFIED;VALUE=DATE-TIME:20231018T141311Z
URL:https://www.molletvalles.cat/ca/serveis/joventut-1/agenda/the-picture-
 show-cineforum-3era-edicio-2
END:VEVENT
END:VCALENDAR
