BEGIN:VCALENDAR
VERSION:2.0
PRODID:-//Plone.org//NONSGML plone.app.event//EN
X-WR-TIMEZONE:Europe/Madrid
BEGIN:VEVENT
SUMMARY:Torneig de Tenis taula 
DTSTART;VALUE=DATE-TIME:20151026T122149Z
DTEND;VALUE=DATE-TIME:20151026T122149Z
DTSTAMP;VALUE=DATE-TIME:20260421T135756Z
UID:c85d7c7c396f41c2aab288aed1361754@www.molletvalles.cat
CREATED;VALUE=DATE-TIME:20231017T104828Z
LAST-MODIFIED;VALUE=DATE-TIME:20231018T141230Z
URL:https://www.molletvalles.cat/ca/serveis/joventut-1/agenda/torneig-de-t
 enis-taula
END:VEVENT
END:VCALENDAR
