BEGIN:VCALENDAR
VERSION:2.0
PRODID:-//Plone.org//NONSGML plone.app.event//EN
X-WR-TIMEZONE:Europe/Madrid
BEGIN:VEVENT
SUMMARY:Visita sensorial a la Casa del Pintor
DTSTART;VALUE=DATE-TIME:20180718T123308Z
DTEND;VALUE=DATE-TIME:20180718T123308Z
DTSTAMP;VALUE=DATE-TIME:20260421T140542Z
UID:1b340f87d2d9442eb42a8b9a494a0b3f@www.molletvalles.cat
CREATED;VALUE=DATE-TIME:20231017T110105Z
LAST-MODIFIED;VALUE=DATE-TIME:20231018T141341Z
URL:https://www.molletvalles.cat/ca/serveis/joventut-1/agenda/visita-senso
 rial-a-la-casa-del-pintor
END:VEVENT
END:VCALENDAR
