BEGIN:VCALENDAR
VERSION:2.0
PRODID:-//Plone.org//NONSGML plone.app.event//EN
X-WR-TIMEZONE:Europe/Madrid
BEGIN:VEVENT
SUMMARY:Wikolia Tour Dj’s amb Jack Mazzoni
DTSTART;VALUE=DATE-TIME:20180724T100917Z
DTEND;VALUE=DATE-TIME:20180724T100917Z
DTSTAMP;VALUE=DATE-TIME:20260421T135529Z
UID:a491196cb45840369234b83ff4fa16db@www.molletvalles.cat
CREATED;VALUE=DATE-TIME:20231017T110117Z
LAST-MODIFIED;VALUE=DATE-TIME:20231018T141342Z
URL:https://www.molletvalles.cat/ca/serveis/joventut-1/agenda/wikolia-tour
 -djs-amb-jack-mazzoni
END:VEVENT
END:VCALENDAR
