BEGIN:VCALENDAR
VERSION:2.0
PRODID:-//Plone.org//NONSGML plone.app.event//EN
X-WR-TIMEZONE:Europe/Madrid
BEGIN:VEVENT
SUMMARY:Jornades tècniques a l'entorn de la discapacitat\, adreçades a f
 amílies
DTSTART;TZID=Europe/Madrid;VALUE=DATE-TIME:20100127T000000
DTEND;TZID=Europe/Madrid;VALUE=DATE-TIME:20100127T235959
DTSTAMP;VALUE=DATE-TIME:20260423T104342Z
UID:668bb4624691471da5d1ae661607365b@www.molletvalles.cat
CATEGORIES:Conferencias
CREATED;VALUE=DATE-TIME:20221221T220319Z
LAST-MODIFIED;VALUE=DATE-TIME:20221221T220410Z
LOCATION:Centre Ocupacional del Bosc
URL:https://www.molletvalles.cat/es/actualidad/agenda/10659
END:VEVENT
BEGIN:VTIMEZONE
TZID:Europe/Madrid
X-LIC-LOCATION:Europe/Madrid
BEGIN:STANDARD
DTSTART;VALUE=DATE-TIME:20091025T020000
TZNAME:CET
TZOFFSETFROM:+0200
TZOFFSETTO:+0100
END:STANDARD
END:VTIMEZONE
END:VCALENDAR
