BEGIN:VCALENDAR
VERSION:2.0
PRODID:-//Plone.org//NONSGML plone.app.event//EN
X-WR-TIMEZONE:Europe/Madrid
BEGIN:VEVENT
SUMMARY:Missa de la Cabra\, "L'aparició"\, a càrrec de la Companyia Carn
 amolles
DTSTART;TZID=Europe/Madrid;VALUE=DATE-TIME:20100213T000000
DTEND;TZID=Europe/Madrid;VALUE=DATE-TIME:20100213T235959
DTSTAMP;VALUE=DATE-TIME:20260425T124502Z
UID:8635cf1dc9ea45fb9b576dc0f026a209@www.molletvalles.cat
CATEGORIES:Actos diversos
CREATED;VALUE=DATE-TIME:20221221T220319Z
LAST-MODIFIED;VALUE=DATE-TIME:20221221T220506Z
LOCATION:Plaça Prat de la Riba
URL:https://www.molletvalles.cat/es/actualidad/agenda/10932
END:VEVENT
BEGIN:VTIMEZONE
TZID:Europe/Madrid
X-LIC-LOCATION:Europe/Madrid
BEGIN:STANDARD
DTSTART;VALUE=DATE-TIME:20091025T020000
TZNAME:CET
TZOFFSETFROM:+0200
TZOFFSETTO:+0100
END:STANDARD
END:VTIMEZONE
END:VCALENDAR
