BEGIN:VCALENDAR
VERSION:2.0
PRODID:-//Plone.org//NONSGML plone.app.event//EN
X-WR-TIMEZONE:Europe/Madrid
BEGIN:VEVENT
SUMMARY:Taller. Programa Obrim Finestres en temps de crisi: El símptoma\,
  una raó per escoltar el nostre cos
DTSTART;TZID=Europe/Madrid;VALUE=DATE-TIME:20100317T000000
DTEND;TZID=Europe/Madrid;VALUE=DATE-TIME:20100317T235959
DTSTAMP;VALUE=DATE-TIME:20260419T181814Z
UID:f50c955e65db49928edadcbd623d562d@www.molletvalles.cat
CATEGORIES:Cursos y talleres
CREATED;VALUE=DATE-TIME:20221221T220319Z
LAST-MODIFIED;VALUE=DATE-TIME:20221221T220525Z
LOCATION:Centre Cívic Can Borrell
URL:https://www.molletvalles.cat/es/actualidad/agenda/11014
END:VEVENT
BEGIN:VTIMEZONE
TZID:Europe/Madrid
X-LIC-LOCATION:Europe/Madrid
BEGIN:STANDARD
DTSTART;VALUE=DATE-TIME:20091025T020000
TZNAME:CET
TZOFFSETFROM:+0200
TZOFFSETTO:+0100
END:STANDARD
END:VTIMEZONE
END:VCALENDAR
