BEGIN:VCALENDAR
VERSION:2.0
PRODID:-//Plone.org//NONSGML plone.app.event//EN
X-WR-TIMEZONE:Europe/Madrid
BEGIN:VEVENT
SUMMARY:Processó de Setmana Santa  "Cristo del Gran Poder" i "Virgen del 
 Mayor Dolor"
DTSTART;TZID=Europe/Madrid;VALUE=DATE-TIME:20100327T000000
DTEND;TZID=Europe/Madrid;VALUE=DATE-TIME:20100327T235959
DTSTAMP;VALUE=DATE-TIME:20260419T164200Z
UID:45f34d06c15c4b56829937382bb2e112@www.molletvalles.cat
CATEGORIES:Actos diversos
CREATED;VALUE=DATE-TIME:20221221T220319Z
LAST-MODIFIED;VALUE=DATE-TIME:20221221T220535Z
URL:https://www.molletvalles.cat/es/actualidad/agenda/11057
END:VEVENT
BEGIN:VTIMEZONE
TZID:Europe/Madrid
X-LIC-LOCATION:Europe/Madrid
BEGIN:STANDARD
DTSTART;VALUE=DATE-TIME:20091025T020000
TZNAME:CET
TZOFFSETFROM:+0200
TZOFFSETTO:+0100
END:STANDARD
END:VTIMEZONE
END:VCALENDAR
