BEGIN:VCALENDAR
VERSION:2.0
PRODID:-//Plone.org//NONSGML plone.app.event//EN
X-WR-TIMEZONE:Europe/Madrid
BEGIN:VEVENT
SUMMARY:Contes per a Infants: Tale's Time. Goldilocks\, a càrrec del prof
 essorat de l'Escola d'Idiomes Cambridge School
DTSTART;TZID=Europe/Madrid;VALUE=DATE-TIME:20100312T000000
DTEND;TZID=Europe/Madrid;VALUE=DATE-TIME:20100312T235959
DTSTAMP;VALUE=DATE-TIME:20260425T124604Z
UID:c26233d761b846a8902a0193890148dd@www.molletvalles.cat
CATEGORIES:Infantiles
CREATED;VALUE=DATE-TIME:20221221T220319Z
LAST-MODIFIED;VALUE=DATE-TIME:20221221T220536Z
LOCATION:Biblioteca Can Mulà
URL:https://www.molletvalles.cat/es/actualidad/agenda/11061
END:VEVENT
BEGIN:VTIMEZONE
TZID:Europe/Madrid
X-LIC-LOCATION:Europe/Madrid
BEGIN:STANDARD
DTSTART;VALUE=DATE-TIME:20091025T020000
TZNAME:CET
TZOFFSETFROM:+0200
TZOFFSETTO:+0100
END:STANDARD
END:VTIMEZONE
END:VCALENDAR
