BEGIN:VCALENDAR
VERSION:2.0
PRODID:-//Plone.org//NONSGML plone.app.event//EN
X-WR-TIMEZONE:Europe/Madrid
BEGIN:VEVENT
SUMMARY:Petit Format: Obra de Teatre "Pero esto...¿qué es?"
DTSTART;TZID=Europe/Madrid;VALUE=DATE-TIME:20100424T000000
DTEND;TZID=Europe/Madrid;VALUE=DATE-TIME:20100424T235959
DTSTAMP;VALUE=DATE-TIME:20260423T152747Z
UID:969142d9645045c394b600398ca0f29e@www.molletvalles.cat
CATEGORIES:Música\, cine y espectáculos
CREATED;VALUE=DATE-TIME:20221221T220319Z
LAST-MODIFIED;VALUE=DATE-TIME:20221221T220624Z
LOCATION:Centre Cívic L'Era
URL:https://www.molletvalles.cat/es/actualidad/agenda/11212
END:VEVENT
BEGIN:VTIMEZONE
TZID:Europe/Madrid
X-LIC-LOCATION:Europe/Madrid
BEGIN:DAYLIGHT
DTSTART;VALUE=DATE-TIME:20100328T030000
TZNAME:CEST
TZOFFSETFROM:+0100
TZOFFSETTO:+0200
END:DAYLIGHT
END:VTIMEZONE
END:VCALENDAR
