BEGIN:VCALENDAR
VERSION:2.0
PRODID:-//Plone.org//NONSGML plone.app.event//EN
X-WR-TIMEZONE:Europe/Madrid
BEGIN:VEVENT
SUMMARY:Veniu a conèixer la biodiversitat de Gallecs: Els amfibis i rèpt
 ils
DTSTART;TZID=Europe/Madrid;VALUE=DATE-TIME:20100626T000000
DTEND;TZID=Europe/Madrid;VALUE=DATE-TIME:20100626T235959
DTSTAMP;VALUE=DATE-TIME:20260419T181811Z
UID:e13f02d42e6b49dd8752bf699b4ce420@www.molletvalles.cat
CATEGORIES:Salidas y excursiones
CREATED;VALUE=DATE-TIME:20221221T220319Z
LAST-MODIFIED;VALUE=DATE-TIME:20221221T220709Z
LOCATION:Can Jornet Xic
URL:https://www.molletvalles.cat/es/actualidad/agenda/11352
END:VEVENT
BEGIN:VTIMEZONE
TZID:Europe/Madrid
X-LIC-LOCATION:Europe/Madrid
BEGIN:DAYLIGHT
DTSTART;VALUE=DATE-TIME:20100328T030000
TZNAME:CEST
TZOFFSETFROM:+0100
TZOFFSETTO:+0200
END:DAYLIGHT
END:VTIMEZONE
END:VCALENDAR
