BEGIN:VCALENDAR
VERSION:2.0
PRODID:-//Plone.org//NONSGML plone.app.event//EN
X-WR-TIMEZONE:Europe/Madrid
BEGIN:VEVENT
SUMMARY:Fira d'Artesans 2010: Actuació dels grups de danses tradicionals 
 d'Irmandade a Nosa Galiza i el Centre Cultural Recreatiu Aragonés de Moll
 et i Comarca
DTSTART;TZID=Europe/Madrid;VALUE=DATE-TIME:20100918T000000
DTEND;TZID=Europe/Madrid;VALUE=DATE-TIME:20100918T235959
DTSTAMP;VALUE=DATE-TIME:20260423T152657Z
UID:92b92718b5bd49c5b3415033f3035940@www.molletvalles.cat
CATEGORIES:Exposiciones y ferias
CREATED;VALUE=DATE-TIME:20221221T220319Z
LAST-MODIFIED;VALUE=DATE-TIME:20221221T220822Z
LOCATION:Plaça de l'Artesania
URL:https://www.molletvalles.cat/es/actualidad/agenda/11581
END:VEVENT
BEGIN:VTIMEZONE
TZID:Europe/Madrid
X-LIC-LOCATION:Europe/Madrid
BEGIN:DAYLIGHT
DTSTART;VALUE=DATE-TIME:20100328T030000
TZNAME:CEST
TZOFFSETFROM:+0100
TZOFFSETTO:+0200
END:DAYLIGHT
END:VTIMEZONE
END:VCALENDAR
