BEGIN:VCALENDAR
VERSION:2.0
PRODID:-//Plone.org//NONSGML plone.app.event//EN
X-WR-TIMEZONE:Europe/Madrid
BEGIN:VEVENT
SUMMARY:La Tertuliana: Les noves famílies
DTSTART;TZID=Europe/Madrid;VALUE=DATE-TIME:20101028T000000
DTEND;TZID=Europe/Madrid;VALUE=DATE-TIME:20101028T235959
DTSTAMP;VALUE=DATE-TIME:20260419T164228Z
UID:4368e917e87443fcabd842fd9a269f26@www.molletvalles.cat
CATEGORIES:Conferencias
CREATED;VALUE=DATE-TIME:20221221T220319Z
LAST-MODIFIED;VALUE=DATE-TIME:20221221T220854Z
LOCATION:Centre Cívic Can Borrell
URL:https://www.molletvalles.cat/es/actualidad/agenda/11747
END:VEVENT
BEGIN:VTIMEZONE
TZID:Europe/Madrid
X-LIC-LOCATION:Europe/Madrid
BEGIN:DAYLIGHT
DTSTART;VALUE=DATE-TIME:20100328T030000
TZNAME:CEST
TZOFFSETFROM:+0100
TZOFFSETTO:+0200
END:DAYLIGHT
END:VTIMEZONE
END:VCALENDAR
