BEGIN:VCALENDAR
VERSION:2.0
PRODID:-//Plone.org//NONSGML plone.app.event//EN
X-WR-TIMEZONE:Europe/Madrid
BEGIN:VEVENT
SUMMARY:L'Hora del Conte: La lluna\, la pruna i una bufanda
DTSTART;TZID=Europe/Madrid;VALUE=DATE-TIME:20110128T000000
DTEND;TZID=Europe/Madrid;VALUE=DATE-TIME:20110128T235959
DTSTAMP;VALUE=DATE-TIME:20260419T164159Z
UID:cc9c09d289534586b3f2c833dc41741e@www.molletvalles.cat
CATEGORIES:Actos diversos
CREATED;VALUE=DATE-TIME:20221221T220319Z
LAST-MODIFIED;VALUE=DATE-TIME:20221221T221018Z
LOCATION:Biblioteca Can Mulà
URL:https://www.molletvalles.cat/es/actualidad/agenda/12003
END:VEVENT
BEGIN:VTIMEZONE
TZID:Europe/Madrid
X-LIC-LOCATION:Europe/Madrid
BEGIN:STANDARD
DTSTART;VALUE=DATE-TIME:20101031T020000
TZNAME:CET
TZOFFSETFROM:+0200
TZOFFSETTO:+0100
END:STANDARD
END:VTIMEZONE
END:VCALENDAR
