BEGIN:VCALENDAR
VERSION:2.0
PRODID:-//Plone.org//NONSGML plone.app.event//EN
X-WR-TIMEZONE:Europe/Madrid
BEGIN:VEVENT
SUMMARY:Ball de Saló
DTSTART;TZID=Europe/Madrid;VALUE=DATE-TIME:20110219T000000
DTEND;TZID=Europe/Madrid;VALUE=DATE-TIME:20110219T235959
DTSTAMP;VALUE=DATE-TIME:20260419T164200Z
UID:e649f25db5a1469b9e89e88036c91cb5@www.molletvalles.cat
CATEGORIES:Música\, cine y espectáculos
CREATED;VALUE=DATE-TIME:20221221T220319Z
LAST-MODIFIED;VALUE=DATE-TIME:20221221T221053Z
LOCATION:Mercat Vell
URL:https://www.molletvalles.cat/es/actualidad/agenda/12128
END:VEVENT
BEGIN:VTIMEZONE
TZID:Europe/Madrid
X-LIC-LOCATION:Europe/Madrid
BEGIN:STANDARD
DTSTART;VALUE=DATE-TIME:20101031T020000
TZNAME:CET
TZOFFSETFROM:+0200
TZOFFSETTO:+0100
END:STANDARD
END:VTIMEZONE
END:VCALENDAR
