BEGIN:VCALENDAR
VERSION:2.0
PRODID:-//Plone.org//NONSGML plone.app.event//EN
X-WR-TIMEZONE:Europe/Madrid
BEGIN:VEVENT
SUMMARY:Programa Posa't les Piles de Ràdio Mollet: especial Dia Mundial S
 ense Tabac
DTSTART;TZID=Europe/Madrid;VALUE=DATE-TIME:20110531T000000
DTEND;TZID=Europe/Madrid;VALUE=DATE-TIME:20110531T235959
DTSTAMP;VALUE=DATE-TIME:20260425T143755Z
UID:63b82ab7544849dc881488aaf5266773@www.molletvalles.cat
CATEGORIES:Actos diversos
CREATED;VALUE=DATE-TIME:20110525T065701Z
LAST-MODIFIED;VALUE=DATE-TIME:20221221T221250Z
LOCATION:Freqüència radiofònica 96.3 fm
URL:https://www.molletvalles.cat/es/actualidad/agenda/12418
END:VEVENT
BEGIN:VTIMEZONE
TZID:Europe/Madrid
X-LIC-LOCATION:Europe/Madrid
BEGIN:DAYLIGHT
DTSTART;VALUE=DATE-TIME:20110327T030000
TZNAME:CEST
TZOFFSETFROM:+0100
TZOFFSETTO:+0200
END:DAYLIGHT
END:VTIMEZONE
END:VCALENDAR
