BEGIN:VCALENDAR
VERSION:2.0
PRODID:-//Plone.org//NONSGML plone.app.event//EN
X-WR-TIMEZONE:Europe/Madrid
BEGIN:VEVENT
SUMMARY:Fira't a Gallecs: Omple de la fira el teu rebost
DTSTART;TZID=Europe/Madrid;VALUE=DATE-TIME:20110925T000000
DTEND;TZID=Europe/Madrid;VALUE=DATE-TIME:20110925T235959
DTSTAMP;VALUE=DATE-TIME:20260423T121912Z
UID:b1f624c9e10d42aaa1fb426b80b967d7@www.molletvalles.cat
CATEGORIES:Exposiciones y ferias
CREATED;VALUE=DATE-TIME:20110921T075415Z
LAST-MODIFIED;VALUE=DATE-TIME:20221221T221415Z
LOCATION:Plaça de l'Església de Gallecs
URL:https://www.molletvalles.cat/es/actualidad/agenda/12663
END:VEVENT
BEGIN:VTIMEZONE
TZID:Europe/Madrid
X-LIC-LOCATION:Europe/Madrid
BEGIN:DAYLIGHT
DTSTART;VALUE=DATE-TIME:20110327T030000
TZNAME:CEST
TZOFFSETFROM:+0100
TZOFFSETTO:+0200
END:DAYLIGHT
END:VTIMEZONE
END:VCALENDAR
